BEGIN:VCALENDAR
VERSION:2.0
PRODID:-//Squarespace Inc/Squarespace 6//v6//EN
BEGIN:VEVENT
UID:5eff0bf171cd8a13624ca68e@squarespace.com
DTSTAMP:20200703T104530Z
DTSTART:20200807T220000Z
DTEND:20200807T230000Z
SUMMARY:Saturday 60mins Hot Yoga 
GEO:-40.620793;175.288023
LOCATION:City Hot Yoga\, 268 Oxford Street\, Levin\, Manawatu-Wanganui\, 55
 10\, New Zealand
END:VEVENT
END:VCALENDAR
