BEGIN:VCALENDAR
VERSION:2.0
PRODID:-//Squarespace Inc/Squarespace 6//v6//EN
BEGIN:VEVENT
UID:5f5fc5ffbfc7c86cf3e02e10@squarespace.com
DTSTAMP:20200914T193544Z
DTSTART:20200920T220000Z
DTEND:20200927T220000Z
SUMMARY:Monday 60mins Hot Yoga 
GEO:-40.620793;175.288023
LOCATION:City Hot Yoga\, 268 Oxford Street\, Levin\, Manawatu-Wanganui\, 55
 10\, New Zealand
END:VEVENT
END:VCALENDAR
