BEGIN:VCALENDAR
VERSION:2.0
PRODID:-//Squarespace Inc/Squarespace 6//v6//EN
BEGIN:VEVENT
UID:5f5fc5c47ae3302976445bb8@squarespace.com
DTSTAMP:20200914T193442Z
DTSTART:20200921T220000Z
DTEND:20200921T230000Z
SUMMARY:Tuesday 60mins Hot Yoga 
GEO:-40.620793;175.288023
LOCATION:City Hot Yoga\, 268 Oxford Street\, Levin\, Manawatu-Wanganui\, 55
 10\, New Zealand
END:VEVENT
END:VCALENDAR
