BEGIN:VCALENDAR
VERSION:2.0
PRODID:-//Squarespace Inc/Squarespace 6//v6//EN
BEGIN:VEVENT
UID:5f5fc55450df4722058bf491@squarespace.com
DTSTAMP:20200914T193303Z
DTSTART:20200914T220000Z
DTEND:20200914T230000Z
SUMMARY:Tuesday 60mins Hot Yoga
GEO:-40.620793;175.288023
LOCATION:City Hot Yoga\, 268 Oxford Street\, Levin\, Manawatu-Wanganui\, 55
 10\, New Zealand
END:VEVENT
END:VCALENDAR
