BEGIN:VCALENDAR
VERSION:2.0
PRODID:-//Squarespace Inc/Squarespace 6//v6//EN
BEGIN:VEVENT
UID:5eff120247a3f57348fc4135@squarespace.com
DTSTAMP:20200703T111307Z
DTSTART:20200817T220000Z
DTEND:20200817T230000Z
SUMMARY:Tuesday 60mins Hot Yoga
GEO:-40.620793;175.288023
LOCATION:City Hot Yoga\, 268 Oxford Street\, Levin\, Manawatu-Wanganui\, 55
 10\, New Zealand
END:VEVENT
END:VCALENDAR
