BEGIN:VCALENDAR
VERSION:2.0
PRODID:-//Squarespace Inc/Squarespace 6//v6//EN
BEGIN:VEVENT
UID:5eff082e648e2f5a4430d72e@squarespace.com
DTSTAMP:20200703T112557Z
DTSTART:20200726T220000Z
DTEND:20200726T230000Z
SUMMARY:Monday 60mins Hot Yoga
GEO:-40.620793;175.288023
LOCATION:City Hot Yoga\, 268 Oxford Street\, Levin\, Manawatu-Wanganui\, 55
 10\, New Zealand
END:VEVENT
END:VCALENDAR
