BEGIN:VCALENDAR
VERSION:2.0
PRODID:-//Squarespace Inc/Squarespace 6//v6//EN
BEGIN:VEVENT
UID:5eff0927fcd86f0cfea74919@squarespace.com
DTSTAMP:20200703T103437Z
DTSTART:20200724T220000Z
DTEND:20200724T230000Z
SUMMARY:OPENING DAY!
GEO:-40.620793;175.288023
LOCATION:City Hot Yoga\, 268a Oxford Street\, Levin\, Manawatu-Wanganui\, 5
 510\, New Zealand
END:VEVENT
END:VCALENDAR
